BEGIN:VCALENDAR
VERSION:2.0
PRODID:-//Sahara Spice - ECPv6.6.1//NONSGML v1.0//EN
CALSCALE:GREGORIAN
METHOD:PUBLISH
X-ORIGINAL-URL:https://www.sahara-spice.com
X-WR-CALDESC:Events for Sahara Spice
REFRESH-INTERVAL;VALUE=DURATION:PT1H
X-Robots-Tag:noindex
X-PUBLISHED-TTL:PT1H
BEGIN:VTIMEZONE
TZID:UTC
BEGIN:STANDARD
TZOFFSETFROM:+0000
TZOFFSETTO:+0000
TZNAME:UTC
DTSTART:20260101T000000
END:STANDARD
END:VTIMEZONE
BEGIN:VEVENT
DTSTART;TZID=UTC:20260503T100000
DTEND;TZID=UTC:20260503T150000
DTSTAMP:20260419T182902
CREATED:20250917T184516Z
LAST-MODIFIED:20250917T184516Z
UID:2574-1777802400-1777820400@www.sahara-spice.com
SUMMARY:Orange Park Farmers Market
DESCRIPTION:Come visit us at the Orange Park Farmers Market to try some of our creative and delicious spice blends
URL:https://www.sahara-spice.com/event/orange-park-farmers-market-15/
LOCATION:Town of Orange Park\, 2042 Park Avenue\, Orange Park\, FL\, 32073\, United States
END:VEVENT
BEGIN:VEVENT
DTSTART;TZID=UTC:20260509T100000
DTEND;TZID=UTC:20260509T150000
DTSTAMP:20260419T182902
CREATED:20260120T143617Z
LAST-MODIFIED:20260120T143617Z
UID:2588-1778320800-1778338800@www.sahara-spice.com
SUMMARY:Art in the Garden Festival
DESCRIPTION:Come see us at the Art in the Garden Festival at the Jacksonville Zoo for some creative and delicious spice blends
URL:https://www.sahara-spice.com/event/art-in-the-garden-festival/
LOCATION:Jacksoville Zoo\, 370 Zoo Pkwy\, Jacksonville\, FL\, 32218\, United States
ORGANIZER;CN="Jacksonville Zoo":MAILTO:info@jacksonvillezoo.org
END:VEVENT
BEGIN:VEVENT
DTSTART;TZID=UTC:20260517T100000
DTEND;TZID=UTC:20260517T150000
DTSTAMP:20260419T182902
CREATED:20250917T190345Z
LAST-MODIFIED:20250917T190345Z
UID:2576-1779012000-1779030000@www.sahara-spice.com
SUMMARY:Orange Park Farmers Market
DESCRIPTION:Come see us at the Orange Park Farmers Market to try some of our handcrafted delicious spice blends
URL:https://www.sahara-spice.com/event/orange-park-farmers-market-16/
LOCATION:Town of Orange Park\, 2042 Park Avenue\, Orange Park\, FL\, 32073\, United States
END:VEVENT
END:VCALENDAR