BEGIN:VCALENDAR
VERSION:2.0
PRODID:-//Sahara Spice - ECPv6.6.1//NONSGML v1.0//EN
CALSCALE:GREGORIAN
METHOD:PUBLISH
X-WR-CALNAME:Sahara Spice
X-ORIGINAL-URL:https://www.sahara-spice.com
X-WR-CALDESC:Events for Sahara Spice
REFRESH-INTERVAL;VALUE=DURATION:PT1H
X-Robots-Tag:noindex
X-PUBLISHED-TTL:PT1H
BEGIN:VTIMEZONE
TZID:UTC
BEGIN:STANDARD
TZOFFSETFROM:+0000
TZOFFSETTO:+0000
TZNAME:UTC
DTSTART:20260101T000000
END:STANDARD
END:VTIMEZONE
BEGIN:VEVENT
DTSTART;TZID=UTC:20260228T110000
DTEND;TZID=UTC:20260228T150000
DTSTAMP:20260419T200534
CREATED:20260219T195527Z
LAST-MODIFIED:20260219T195527Z
UID:2592-1772276400-1772290800@www.sahara-spice.com
SUMMARY:Calm & Cozy Cantina Market
DESCRIPTION:Come visit us at the Calm and Cozy Cantina Market at the Moe’s Southern Grill in Mandarin to try some of our creative and delicious spice blends
URL:https://www.sahara-spice.com/event/calm-cozy-cantina-market/
LOCATION:Trinity Madarin\, 2955 Orange Picker RD\, Jacksonville\, FL\, 32223\, United States
ORGANIZER;CN="Calm & Cozy":MAILTO:contact@calmandcozyco.com
END:VEVENT
END:VCALENDAR