BEGIN:VCALENDAR
VERSION:2.0
PRODID:-//Sahara Spice - ECPv6.6.1//NONSGML v1.0//EN
CALSCALE:GREGORIAN
METHOD:PUBLISH
X-ORIGINAL-URL:https://www.sahara-spice.com
X-WR-CALDESC:Events for Sahara Spice
REFRESH-INTERVAL;VALUE=DURATION:PT1H
X-Robots-Tag:noindex
X-PUBLISHED-TTL:PT1H
BEGIN:VTIMEZONE
TZID:UTC
BEGIN:STANDARD
TZOFFSETFROM:+0000
TZOFFSETTO:+0000
TZNAME:UTC
DTSTART:20260101T000000
END:STANDARD
END:VTIMEZONE
BEGIN:VEVENT
DTSTART;TZID=UTC:20260104T100000
DTEND;TZID=UTC:20260104T150000
DTSTAMP:20260418T100535
CREATED:20250813T132224Z
LAST-MODIFIED:20250813T132224Z
UID:2560-1767520800-1767538800@www.sahara-spice.com
SUMMARY:Orange Park Farmers Market
DESCRIPTION:Come see us at the Orange Park Farmers Market to try some of our creative and delicious spice blends
URL:https://www.sahara-spice.com/event/orange-park-farmers-market-10/
LOCATION:Town of Orange Park\, 2042 Park Avenue\, Orange Park\, FL\, 32073\, United States
END:VEVENT
BEGIN:VEVENT
DTSTART;TZID=UTC:20260118T100000
DTEND;TZID=UTC:20260118T150000
DTSTAMP:20260418T100535
CREATED:20250813T132838Z
LAST-MODIFIED:20250813T132838Z
UID:2562-1768730400-1768748400@www.sahara-spice.com
SUMMARY:Orange Park Farmers Market
DESCRIPTION:Come visit us at the Orange Park Farmers Market and try some of our creative and delicious spice blends
URL:https://www.sahara-spice.com/event/orange-park-farmers-market-11/
LOCATION:Town of Orange Park\, 2042 Park Avenue\, Orange Park\, FL\, 32073\, United States
END:VEVENT
BEGIN:VEVENT
DTSTART;TZID=UTC:20260124T100000
DTEND;TZID=UTC:20260124T140000
DTSTAMP:20260418T100535
CREATED:20260113T184107Z
LAST-MODIFIED:20260113T184107Z
UID:2586-1769248800-1769263200@www.sahara-spice.com
SUMMARY:James Ranch: Ranch Day
DESCRIPTION:Come see us at Ranch Day at James Ranch to try some of our creative and delicious spice blends
URL:https://www.sahara-spice.com/event/james-ranch-ranch-day-2/
LOCATION:James Ranch\, 120 Dog Branch Rd\, East Palatka\, FL\, 32131\, United States
ORGANIZER;CN="James Ranch":MAILTO:jamesranch.fl@gmail.com
END:VEVENT
END:VCALENDAR