BEGIN:VCALENDAR
VERSION:2.0
PRODID:-//Sahara Spice - ECPv6.6.1//NONSGML v1.0//EN
CALSCALE:GREGORIAN
METHOD:PUBLISH
X-WR-CALNAME:Sahara Spice
X-ORIGINAL-URL:https://www.sahara-spice.com
X-WR-CALDESC:Events for Sahara Spice
REFRESH-INTERVAL;VALUE=DURATION:PT1H
X-Robots-Tag:noindex
X-PUBLISHED-TTL:PT1H
BEGIN:VTIMEZONE
TZID:UTC
BEGIN:STANDARD
TZOFFSETFROM:+0000
TZOFFSETTO:+0000
TZNAME:UTC
DTSTART:20250101T000000
END:STANDARD
END:VTIMEZONE
BEGIN:VEVENT
DTSTART;TZID=UTC:20251102T100000
DTEND;TZID=UTC:20251102T150000
DTSTAMP:20260420T012742
CREATED:20250811T173332Z
LAST-MODIFIED:20250811T173332Z
UID:2551-1762077600-1762095600@www.sahara-spice.com
SUMMARY:Orange Park Farmers Market
DESCRIPTION:Come Visit us at the Orange Park Farmers Market and try some of our Delicious Spice Blends
URL:https://www.sahara-spice.com/event/orange-park-farmers-market-6/
LOCATION:Town of Orange Park\, 2042 Park Avenue\, Orange Park\, FL\, 32073\, United States
END:VEVENT
BEGIN:VEVENT
DTSTART;TZID=UTC:20251108T100000
DTEND;TZID=UTC:20251108T160000
DTSTAMP:20260420T012742
CREATED:20251002T151436Z
LAST-MODIFIED:20251002T151436Z
UID:2584-1762596000-1762617600@www.sahara-spice.com
SUMMARY:Moosehaven Chili Cook Off
DESCRIPTION:Come see us at the 15th Annual Moosehaven Chili Cook Off to try some of our creative and delicious spice blends
URL:https://www.sahara-spice.com/event/moosehaven-chili-cook-off-2/
LOCATION:Moosehaven\, 1701 Park Ave\, Orange Park\, FL\, 32073\, United States
END:VEVENT
BEGIN:VEVENT
DTSTART;TZID=UTC:20251116T100000
DTEND;TZID=UTC:20251116T150000
DTSTAMP:20260420T012742
CREATED:20250811T173710Z
LAST-MODIFIED:20250811T173710Z
UID:2553-1763287200-1763305200@www.sahara-spice.com
SUMMARY:Orange Park Farmers Market
DESCRIPTION:Come see us at the Orange Park Farmers Market and try some of our creative and delicious Spice blends
URL:https://www.sahara-spice.com/event/orange-park-farmers-market-7/
LOCATION:Town of Orange Park\, 2042 Park Avenue\, Orange Park\, FL\, 32073\, United States
END:VEVENT
BEGIN:VEVENT
DTSTART;TZID=UTC:20251122T100000
DTEND;TZID=UTC:20251122T160000
DTSTAMP:20260420T012742
CREATED:20250205T192702Z
LAST-MODIFIED:20250205T192702Z
UID:2527-1763805600-1763827200@www.sahara-spice.com
SUMMARY:Holiday Market at Mandarin Markets
DESCRIPTION:Come Join us at the Holiday Market at Mandarin Markets to try some of our creative and delicious spice blends.
URL:https://www.sahara-spice.com/event/holiday-market-at-mandarin-markets/
LOCATION:Trinity Madarin\, 2955 Orange Picker RD\, Jacksonville\, FL\, 32223\, United States
ORGANIZER;CN="Leah Bennett":MAILTO:coachleah15@outlook.com
END:VEVENT
END:VCALENDAR