BEGIN:VCALENDAR
VERSION:2.0
PRODID:-//Sahara Spice - ECPv6.6.1//NONSGML v1.0//EN
CALSCALE:GREGORIAN
METHOD:PUBLISH
X-WR-CALNAME:Sahara Spice
X-ORIGINAL-URL:https://www.sahara-spice.com
X-WR-CALDESC:Events for Sahara Spice
REFRESH-INTERVAL;VALUE=DURATION:PT1H
X-Robots-Tag:noindex
X-PUBLISHED-TTL:PT1H
BEGIN:VTIMEZONE
TZID:UTC
BEGIN:STANDARD
TZOFFSETFROM:+0000
TZOFFSETTO:+0000
TZNAME:UTC
DTSTART:20260101T000000
END:STANDARD
END:VTIMEZONE
BEGIN:VEVENT
DTSTART;TZID=UTC:20260411T090000
DTEND;TZID=UTC:20260411T130000
DTSTAMP:20260419T182746
CREATED:20260316T184437Z
LAST-MODIFIED:20260316T184437Z
UID:2601-1775898000-1775912400@www.sahara-spice.com
SUMMARY:Ranch Day at James Ranch
DESCRIPTION:Come Visit us at Ranch Day at James Ranch to try some of our creative and delicious spice blends
URL:https://www.sahara-spice.com/event/ranch-day-at-james-ranch/
LOCATION:James Ranch\, 120 Dog Branch Rd\, East Palatka\, FL\, 32131\, United States
ORGANIZER;CN="James Ranch":MAILTO:jamesranch.fl@gmail.com
END:VEVENT
END:VCALENDAR