BEGIN:VCALENDAR
VERSION:2.0
PRODID:-//Sahara Spice - ECPv6.6.1//NONSGML v1.0//EN
CALSCALE:GREGORIAN
METHOD:PUBLISH
X-ORIGINAL-URL:https://www.sahara-spice.com
X-WR-CALDESC:Events for Sahara Spice
REFRESH-INTERVAL;VALUE=DURATION:PT1H
X-Robots-Tag:noindex
X-PUBLISHED-TTL:PT1H
BEGIN:VTIMEZONE
TZID:UTC
BEGIN:STANDARD
TZOFFSETFROM:+0000
TZOFFSETTO:+0000
TZNAME:UTC
DTSTART:20260101T000000
END:STANDARD
END:VTIMEZONE
BEGIN:VEVENT
DTSTART;TZID=UTC:20260308T100000
DTEND;TZID=UTC:20260308T130000
DTSTAMP:20260419T200730
CREATED:20260304T152845Z
LAST-MODIFIED:20260304T152845Z
UID:2595-1772964000-1772974800@www.sahara-spice.com
SUMMARY:Durin Community Market
DESCRIPTION:Come see us at the Durin Community Market at Nocatee to try some of our creative and delicious spice blends
URL:https://www.sahara-spice.com/event/durin-community-market/
LOCATION:Durin Crossing\, 145 South Durin Parkway\, St. Johns\, FL\, 32259\, United States
END:VEVENT
END:VCALENDAR