BEGIN:VCALENDAR
VERSION:2.0
PRODID:-//Sahara Spice - ECPv6.6.1//NONSGML v1.0//EN
CALSCALE:GREGORIAN
METHOD:PUBLISH
X-ORIGINAL-URL:https://www.sahara-spice.com
X-WR-CALDESC:Events for Sahara Spice
REFRESH-INTERVAL;VALUE=DURATION:PT1H
X-Robots-Tag:noindex
X-PUBLISHED-TTL:PT1H
BEGIN:VTIMEZONE
TZID:UTC
BEGIN:STANDARD
TZOFFSETFROM:+0000
TZOFFSETTO:+0000
TZNAME:UTC
DTSTART:20260101T000000
END:STANDARD
END:VTIMEZONE
BEGIN:VEVENT
DTSTART;TZID=UTC:20260301T100000
DTEND;TZID=UTC:20260301T150000
DTSTAMP:20260419T200841
CREATED:20250813T133621Z
LAST-MODIFIED:20250813T133621Z
UID:2565-1772359200-1772377200@www.sahara-spice.com
SUMMARY:Orange Park Farmers Market
DESCRIPTION:Come see us at The Orange Park Farmers Market and try some of our delicious handcrafted Spice Blends
URL:https://www.sahara-spice.com/event/orange-park-farmers-market-12/
LOCATION:FL
END:VEVENT
END:VCALENDAR