BEGIN:VCALENDAR
VERSION:2.0
PRODID:-//Sahara Spice - ECPv6.6.1//NONSGML v1.0//EN
CALSCALE:GREGORIAN
METHOD:PUBLISH
X-WR-CALNAME:Sahara Spice
X-ORIGINAL-URL:https://www.sahara-spice.com
X-WR-CALDESC:Events for Sahara Spice
REFRESH-INTERVAL;VALUE=DURATION:PT1H
X-Robots-Tag:noindex
X-PUBLISHED-TTL:PT1H
BEGIN:VTIMEZONE
TZID:UTC
BEGIN:STANDARD
TZOFFSETFROM:+0000
TZOFFSETTO:+0000
TZNAME:UTC
DTSTART:20250101T000000
END:STANDARD
END:VTIMEZONE
BEGIN:VEVENT
DTSTART;TZID=UTC:20250927T100000
DTEND;TZID=UTC:20250927T160000
DTSTAMP:20260420T063714
CREATED:20250205T191427Z
LAST-MODIFIED:20250205T191427Z
UID:2525-1758967200-1758988800@www.sahara-spice.com
SUMMARY:Fall Festival at Mandarin
DESCRIPTION:Come visit us at the Fall Festival at the Mandarin Market to try some of our creative and delicious spice blends.
URL:https://www.sahara-spice.com/event/fall-festival-at-mandarin/
LOCATION:Trinity Madarin\, 2955 Orange Picker RD\, Jacksonville\, FL\, 32223\, United States
ORGANIZER;CN="Leah Bennett":MAILTO:coachleah15@outlook.com
END:VEVENT
END:VCALENDAR