BEGIN:VCALENDAR
VERSION:2.0
PRODID:-//Sahara Spice - ECPv6.6.1//NONSGML v1.0//EN
CALSCALE:GREGORIAN
METHOD:PUBLISH
X-ORIGINAL-URL:https://www.sahara-spice.com
X-WR-CALDESC:Events for Sahara Spice
REFRESH-INTERVAL;VALUE=DURATION:PT1H
X-Robots-Tag:noindex
X-PUBLISHED-TTL:PT1H
BEGIN:VTIMEZONE
TZID:UTC
BEGIN:STANDARD
TZOFFSETFROM:+0000
TZOFFSETTO:+0000
TZNAME:UTC
DTSTART:20250101T000000
END:STANDARD
END:VTIMEZONE
BEGIN:VEVENT
DTSTART;TZID=UTC:20250511T100000
DTEND;TZID=UTC:20250511T150000
DTSTAMP:20260421T105919
CREATED:20250123T142206Z
LAST-MODIFIED:20250123T142206Z
UID:2516-1746957600-1746975600@www.sahara-spice.com
SUMMARY:Jacksonville Zoo Art in the Garden Festival
DESCRIPTION:Come visit us at the Jacksonville Zoo Art in the Garden Festival on May 11th to try some of our creative and delicious spice blends
URL:https://www.sahara-spice.com/event/jacksonville-zoo-art-in-the-garden-festival-2/
LOCATION:Jacksoville Zoo\, 370 Zoo Pkwy\, Jacksonville\, FL\, 32218\, United States
ORGANIZER;CN="Jacksonville Zoo":MAILTO:info@jacksonvillezoo.org
END:VEVENT
END:VCALENDAR