BEGIN:VCALENDAR
VERSION:2.0
PRODID:-//Sahara Spice - ECPv6.6.1//NONSGML v1.0//EN
CALSCALE:GREGORIAN
METHOD:PUBLISH
X-ORIGINAL-URL:https://www.sahara-spice.com
X-WR-CALDESC:Events for Sahara Spice
REFRESH-INTERVAL;VALUE=DURATION:PT1H
X-Robots-Tag:noindex
X-PUBLISHED-TTL:PT1H
BEGIN:VTIMEZONE
TZID:UTC
BEGIN:STANDARD
TZOFFSETFROM:+0000
TZOFFSETTO:+0000
TZNAME:UTC
DTSTART:20250101T000000
END:STANDARD
END:VTIMEZONE
BEGIN:VEVENT
DTSTART;TZID=UTC:20250104T120000
DTEND;TZID=UTC:20250104T170000
DTSTAMP:20260421T105657
CREATED:20241227T143239Z
LAST-MODIFIED:20241227T143239Z
UID:2512-1735992000-1736010000@www.sahara-spice.com
SUMMARY:Underground Farmers & Arts Market
DESCRIPTION:Come visit us at the Underground Farmers and Arts market at Riverside this Saturday to try some of our creative and delicious spice blends
URL:https://www.sahara-spice.com/event/underground-farmers-arts-market/
LOCATION:Riverside\, 2731 Park Street\, Riverside\, FL\, 32205\, United States
ORGANIZER;CN="Underground Market":MAILTO:theundergroundjax@yahoo.com
END:VEVENT
END:VCALENDAR