BEGIN:VCALENDAR
VERSION:2.0
PRODID:-//Sahara Spice - ECPv6.6.1//NONSGML v1.0//EN
CALSCALE:GREGORIAN
METHOD:PUBLISH
X-ORIGINAL-URL:https://www.sahara-spice.com
X-WR-CALDESC:Events for Sahara Spice
REFRESH-INTERVAL;VALUE=DURATION:PT1H
X-Robots-Tag:noindex
X-PUBLISHED-TTL:PT1H
BEGIN:VTIMEZONE
TZID:UTC
BEGIN:STANDARD
TZOFFSETFROM:+0000
TZOFFSETTO:+0000
TZNAME:UTC
DTSTART:20240101T000000
END:STANDARD
END:VTIMEZONE
BEGIN:VEVENT
DTSTART;TZID=UTC:20241214T100000
DTEND;TZID=UTC:20241214T150000
DTSTAMP:20260421T123209
CREATED:20240802T134139Z
LAST-MODIFIED:20240802T134139Z
UID:2443-1734170400-1734188400@www.sahara-spice.com
SUMMARY:The Christmas Market at the Clay County Fairgrounds
DESCRIPTION:Come Visit us at the Christmas Market at the Clay County Fairgrounds for some delicious and creative spice blends for the holidays.
URL:https://www.sahara-spice.com/event/the-christmas-market-at-the-clay-county-fairgrounds/
LOCATION:Clay County Fairgrounds\, 2507 State Road 16 West\, Green Cove Spings\, FL\, 32043\, United States
ORGANIZER;CN="Charming Sisters":MAILTO:charmingsisters@yahoo.com
END:VEVENT
END:VCALENDAR