BEGIN:VCALENDAR
VERSION:2.0
PRODID:-//Sahara Spice - ECPv6.6.1//NONSGML v1.0//EN
CALSCALE:GREGORIAN
METHOD:PUBLISH
X-WR-CALNAME:Sahara Spice
X-ORIGINAL-URL:https://www.sahara-spice.com
X-WR-CALDESC:Events for Sahara Spice
REFRESH-INTERVAL;VALUE=DURATION:PT1H
X-Robots-Tag:noindex
X-PUBLISHED-TTL:PT1H
BEGIN:VTIMEZONE
TZID:UTC
BEGIN:STANDARD
TZOFFSETFROM:+0000
TZOFFSETTO:+0000
TZNAME:UTC
DTSTART:20240101T000000
END:STANDARD
END:VTIMEZONE
BEGIN:VEVENT
DTSTART;TZID=UTC:20241117T100000
DTEND;TZID=UTC:20241117T150000
DTSTAMP:20260420T090012
CREATED:20240710T145609Z
LAST-MODIFIED:20240710T145609Z
UID:2379-1731837600-1731855600@www.sahara-spice.com
SUMMARY:Orange Park Farmers Market
DESCRIPTION:Come join us at the Orange Park Farmers & Arts Market near the Orange Park Town Hall to try some creative and delicious Spices.
URL:https://www.sahara-spice.com/event/orange-park-farmers-market/
LOCATION:Town of Orange Park\, 2042 Park Avenue\, Orange Park\, FL\, 32073\, United States
END:VEVENT
END:VCALENDAR